BEGIN:VCALENDAR
VERSION:2.0
PRODID:-//CITIES AND HUMAN MOBILITY - ECPv6.15.20//NONSGML v1.0//EN
CALSCALE:GREGORIAN
METHOD:PUBLISH
X-WR-CALNAME:CITIES AND HUMAN MOBILITY
X-ORIGINAL-URL:https://www.cmmrc.org
X-WR-CALDESC:Events for CITIES AND HUMAN MOBILITY
REFRESH-INTERVAL;VALUE=DURATION:PT1H
X-Robots-Tag:noindex
X-PUBLISHED-TTL:PT1H
BEGIN:VTIMEZONE
TZID:UTC
BEGIN:STANDARD
TZOFFSETFROM:+0000
TZOFFSETTO:+0000
TZNAME:UTC
DTSTART:20170101T000000
END:STANDARD
END:VTIMEZONE
BEGIN:VEVENT
DTSTART;VALUE=DATE:20191030
DTEND;VALUE=DATE:20191101
DTSTAMP:20260423T152247
CREATED:20190512T210109Z
LAST-MODIFIED:20190512T210109Z
UID:218-1572393600-1572566399@www.cmmrc.org
SUMMARY:Workshop
DESCRIPTION:On 30-31 October 2019\, the Robert Schuman Centre at the European University Institute in Florence will sponsor the first conference of the Cities\, Migration and Membership Research Platform. The workshop-like setting will further develop critical areas of focus for the Platform\, foster potential joint projects and initiatives\, as well help to set the research agenda on migration and cities in the 21st century. Scholars working on issues of migration in low and lower-middle income contexts are especially encouraged to apply.
URL:https://www.cmmrc.org/event/workshop/
END:VEVENT
BEGIN:VEVENT
DTSTART;VALUE=DATE:20180928
DTEND;VALUE=DATE:20180929
DTSTAMP:20260423T152247
CREATED:20190521T032327Z
LAST-MODIFIED:20190521T032327Z
UID:293-1538092800-1538179199@www.cmmrc.org
SUMMARY:
DESCRIPTION:The Platform was seeded on 28 September 2018 at the Zolberg Institute on Migration and Mobility at The New School in New York City. Against the backdrop of the 73rd United Nations General Assembly and the adoption of the Global Compacts on Migration and Refugees\, a small group of leading academics and practitioners gathered to examine the role of academia in making ‘migration work for all.’ The day of discussion culminated in establishing a platform that would allow members to share ideas\, collaborate on research\, and reach a broader audience to implement member recommendations.
URL:https://www.cmmrc.org/event/293/
END:VEVENT
END:VCALENDAR